BEGIN:VCALENDAR
VERSION:2.0
PRODID:-//Paroisse des Douze Apôtres en Pays d&#039;Aix - ECPv5.0.3.1//NONSGML v1.0//EN
CALSCALE:GREGORIAN
METHOD:PUBLISH
X-WR-CALNAME:Paroisse des Douze Apôtres en Pays d&#039;Aix
X-ORIGINAL-URL:https://paroisseaixlesbains.fr
X-WR-CALDESC:Évènements pour Paroisse des Douze Apôtres en Pays d&#039;Aix
BEGIN:VTIMEZONE
TZID:Europe/Paris
BEGIN:DAYLIGHT
TZOFFSETFROM:+0100
TZOFFSETTO:+0200
TZNAME:CEST
DTSTART:20250330T010000
END:DAYLIGHT
BEGIN:STANDARD
TZOFFSETFROM:+0200
TZOFFSETTO:+0100
TZNAME:CET
DTSTART:20251026T010000
END:STANDARD
END:VTIMEZONE
BEGIN:VEVENT
DTSTART;TZID=Europe/Paris:20250521T200000
DTEND;TZID=Europe/Paris:20250521T220000
DTSTAMP:20260420T143225
CREATED:20250517T074201Z
LAST-MODIFIED:20250517T074201Z
UID:8335-1747857600-1747864800@paroisseaixlesbains.fr
SUMMARY:Soirée de présentation du futur patronage le 21 mai 2025
DESCRIPTION:Envie d’être bénévole sur la paroisse ? \nDisponible et motivé pour rendre service ? \nDevenir animateur ? Proposer des atelier et jeux ? \nPour les enfants du patronage à la rentrée 2025 ? \nRendez-vous mercredi 21 mai 2025 à la Maison Saint-Joseph\, parking du Pont rouge\, Aix les Bains \n
URL:https://paroisseaixlesbains.fr/evenement/soiree-de-presentation-du-futur-patronage-le-21-mai-2025/
LOCATION:Salle/Maison Saint Joseph\, 156 Avenue du Grand Port\, Aix les Bains\, 73100\, France
ATTACH;FMTTYPE=image/jpeg:https://paroisseaixlesbains.fr/wp-content/uploads/2025/05/2025SoireePatronage.jpg
END:VEVENT
END:VCALENDAR