BEGIN:VCALENDAR
VERSION:2.0
PRODID:-//Paroisse des Douze Apôtres en Pays d&#039;Aix - ECPv5.0.3.1//NONSGML v1.0//EN
CALSCALE:GREGORIAN
METHOD:PUBLISH
X-WR-CALNAME:Paroisse des Douze Apôtres en Pays d&#039;Aix
X-ORIGINAL-URL:https://paroisseaixlesbains.fr
X-WR-CALDESC:Évènements pour Paroisse des Douze Apôtres en Pays d&#039;Aix
BEGIN:VTIMEZONE
TZID:Europe/Paris
BEGIN:DAYLIGHT
TZOFFSETFROM:+0100
TZOFFSETTO:+0200
TZNAME:CEST
DTSTART:20190331T010000
END:DAYLIGHT
BEGIN:STANDARD
TZOFFSETFROM:+0200
TZOFFSETTO:+0100
TZNAME:CET
DTSTART:20191027T010000
END:STANDARD
END:VTIMEZONE
BEGIN:VEVENT
DTSTART;TZID=Europe/Paris:20190526T091500
DTEND;TZID=Europe/Paris:20190526T091500
DTSTAMP:20260424T150514
CREATED:20190502T181912Z
LAST-MODIFIED:20190502T181912Z
UID:2682-1558862100-1558862100@paroisseaixlesbains.fr
SUMMARY:Messe et Premières Communions
DESCRIPTION:
URL:https://paroisseaixlesbains.fr/evenement/messe-et-premieres-communions-2/
LOCATION:Eglise de Drumettaz-Clarafond\, Place de l'Eglise\, Drumettaz-Clarafond\, 73420\, France
END:VEVENT
END:VCALENDAR