BEGIN:VCALENDAR
VERSION:2.0
PRODID:-//Paroisse des Douze Apôtres en Pays d&#039;Aix - ECPv5.0.3.1//NONSGML v1.0//EN
CALSCALE:GREGORIAN
METHOD:PUBLISH
X-WR-CALNAME:Paroisse des Douze Apôtres en Pays d&#039;Aix
X-ORIGINAL-URL:https://paroisseaixlesbains.fr
X-WR-CALDESC:Évènements pour Paroisse des Douze Apôtres en Pays d&#039;Aix
BEGIN:VTIMEZONE
TZID:Europe/Paris
BEGIN:DAYLIGHT
TZOFFSETFROM:+0100
TZOFFSETTO:+0200
TZNAME:CEST
DTSTART:20220327T010000
END:DAYLIGHT
BEGIN:STANDARD
TZOFFSETFROM:+0200
TZOFFSETTO:+0100
TZNAME:CET
DTSTART:20221030T010000
END:STANDARD
END:VTIMEZONE
BEGIN:VEVENT
DTSTART;TZID=Europe/Paris:20220904T100000
DTEND;TZID=Europe/Paris:20220904T113000
DTSTAMP:20260422T073954
CREATED:20220812T074136Z
LAST-MODIFIED:20220812T074136Z
UID:5440-1662285600-1662291000@paroisseaixlesbains.fr
SUMMARY:Messe de rentrée
DESCRIPTION:A 10h Messe en plein air au Petit Port \n
URL:https://paroisseaixlesbains.fr/evenement/messe-de-rentree/
LOCATION:esplanade du lac\, esplanade du lac\, aix les bains\, France
END:VEVENT
END:VCALENDAR