BEGIN:VCALENDAR
VERSION:2.0
PRODID:-//Paroisse des Douze Apôtres en Pays d&#039;Aix - ECPv5.0.3.1//NONSGML v1.0//EN
CALSCALE:GREGORIAN
METHOD:PUBLISH
X-WR-CALNAME:Paroisse des Douze Apôtres en Pays d&#039;Aix
X-ORIGINAL-URL:https://paroisseaixlesbains.fr
X-WR-CALDESC:Évènements pour Paroisse des Douze Apôtres en Pays d&#039;Aix
BEGIN:VTIMEZONE
TZID:Europe/Paris
BEGIN:DAYLIGHT
TZOFFSETFROM:+0100
TZOFFSETTO:+0200
TZNAME:CEST
DTSTART:20230326T010000
END:DAYLIGHT
BEGIN:STANDARD
TZOFFSETFROM:+0200
TZOFFSETTO:+0100
TZNAME:CET
DTSTART:20231029T010000
END:STANDARD
END:VTIMEZONE
BEGIN:VEVENT
DTSTART;TZID=Europe/Paris:20230903T100000
DTEND;TZID=Europe/Paris:20230903T120000
DTSTAMP:20260423T110034
CREATED:20230731T094712Z
LAST-MODIFIED:20230731T094712Z
UID:6534-1693735200-1693742400@paroisseaixlesbains.fr
SUMMARY:Messe de rentrée
DESCRIPTION:Messe en plein air au bord du lac du Bourget. \nToutes les communautés de la paroisse des douze apôtres se retrouvent\, pour marquer le début de l’année pastorale. \nCélébration de plusieurs baptême. \nLes écoliers\, peu importe leur âge\, sont invité à faire bénir leur matériel scolaire et recevoir les encouragements pour une année studieuse. \n
URL:https://paroisseaixlesbains.fr/evenement/messe-de-rentree-2023/
LOCATION:Petit port (messe du Lac)\, Petit Port d'Aix-les-Bains\, Aix-les-Bains\, 73100\, France
ATTACH;FMTTYPE=image/jpeg:https://paroisseaixlesbains.fr/wp-content/uploads/2022/09/fete_lac-e1690796615309.jpeg
END:VEVENT
END:VCALENDAR