BEGIN:VCALENDAR
VERSION:2.0
PRODID:-//Paroisse des Douze Apôtres en Pays d&#039;Aix - ECPv5.0.3.1//NONSGML v1.0//EN
CALSCALE:GREGORIAN
METHOD:PUBLISH
X-WR-CALNAME:Paroisse des Douze Apôtres en Pays d&#039;Aix
X-ORIGINAL-URL:https://paroisseaixlesbains.fr
X-WR-CALDESC:Évènements pour Paroisse des Douze Apôtres en Pays d&#039;Aix
BEGIN:VTIMEZONE
TZID:Europe/Paris
BEGIN:DAYLIGHT
TZOFFSETFROM:+0100
TZOFFSETTO:+0200
TZNAME:CEST
DTSTART:20230326T010000
END:DAYLIGHT
BEGIN:STANDARD
TZOFFSETFROM:+0200
TZOFFSETTO:+0100
TZNAME:CET
DTSTART:20231029T010000
END:STANDARD
END:VTIMEZONE
BEGIN:VEVENT
DTSTART;TZID=Europe/Paris:20230909T100000
DTEND;TZID=Europe/Paris:20230909T120000
DTSTAMP:20260424T084631
CREATED:20230822T083014Z
LAST-MODIFIED:20230822T083014Z
UID:6622-1694253600-1694260800@paroisseaixlesbains.fr
SUMMARY:Inscription au catéchisme
DESCRIPTION:
URL:https://paroisseaixlesbains.fr/evenement/inscription-au-catechisme/
LOCATION:Vieux-Moulin\, Place Cardinal Garonne\, Aix les Bains\, 73100\, France
END:VEVENT
END:VCALENDAR