BEGIN:VCALENDAR
VERSION:2.0
PRODID:-//Paroisse des Douze Apôtres en Pays d&#039;Aix - ECPv5.0.3.1//NONSGML v1.0//EN
CALSCALE:GREGORIAN
METHOD:PUBLISH
X-WR-CALNAME:Paroisse des Douze Apôtres en Pays d&#039;Aix
X-ORIGINAL-URL:https://paroisseaixlesbains.fr
X-WR-CALDESC:Évènements pour Paroisse des Douze Apôtres en Pays d&#039;Aix
BEGIN:VTIMEZONE
TZID:Europe/Paris
BEGIN:DAYLIGHT
TZOFFSETFROM:+0100
TZOFFSETTO:+0200
TZNAME:CEST
DTSTART:20190331T010000
END:DAYLIGHT
BEGIN:STANDARD
TZOFFSETFROM:+0200
TZOFFSETTO:+0100
TZNAME:CET
DTSTART:20191027T010000
END:STANDARD
END:VTIMEZONE
BEGIN:VEVENT
DTSTART;TZID=Europe/Paris:20190607T200000
DTEND;TZID=Europe/Paris:20190607T220000
DTSTAMP:20260424T104545
CREATED:20190521T090904Z
LAST-MODIFIED:20190521T090915Z
UID:2713-1559937600-1559944800@paroisseaixlesbains.fr
SUMMARY:Habitat & Humanisme présente le film "Rosie Davis"
DESCRIPTION:
URL:https://paroisseaixlesbains.fr/evenement/habitat-et-humanisme-presente-le-film-rosie-davis/
LOCATION:Cinéma Victoria\, Cinéma Victoria et Rex\, 36 Avenue Victoria\, Aix-les-Bains\, 73100\, France
END:VEVENT
END:VCALENDAR