BEGIN:VCALENDAR
VERSION:2.0
PRODID:-//Paroisse des Douze Apôtres en Pays d&#039;Aix - ECPv5.0.3.1//NONSGML v1.0//EN
CALSCALE:GREGORIAN
METHOD:PUBLISH
X-WR-CALNAME:Paroisse des Douze Apôtres en Pays d&#039;Aix
X-ORIGINAL-URL:https://paroisseaixlesbains.fr
X-WR-CALDESC:Évènements pour Paroisse des Douze Apôtres en Pays d&#039;Aix
BEGIN:VTIMEZONE
TZID:Europe/Paris
BEGIN:DAYLIGHT
TZOFFSETFROM:+0100
TZOFFSETTO:+0200
TZNAME:CEST
DTSTART:20190331T010000
END:DAYLIGHT
BEGIN:STANDARD
TZOFFSETFROM:+0200
TZOFFSETTO:+0100
TZNAME:CET
DTSTART:20191027T010000
END:STANDARD
END:VTIMEZONE
BEGIN:VEVENT
DTSTART;TZID=Europe/Paris:20190525T200000
DTEND;TZID=Europe/Paris:20190525T200000
DTSTAMP:20260424T182244
CREATED:20190502T181718Z
LAST-MODIFIED:20190502T181718Z
UID:2680-1558814400-1558814400@paroisseaixlesbains.fr
SUMMARY:Concert : chorale des Mayanches
DESCRIPTION:
URL:https://paroisseaixlesbains.fr/evenement/concert-chorale-des-mayanches/
LOCATION:Eglise de Tresserve\, Place Daniel Rops\, Tresserve\, 73100\, France
END:VEVENT
END:VCALENDAR